BEGIN:VCALENDAR
VERSION:2.0
PRODID:-//Stichting Jeugd &amp; jongerenwerk Ammerzoden - ECPv6.15.20//NONSGML v1.0//EN
CALSCALE:GREGORIAN
METHOD:PUBLISH
X-ORIGINAL-URL:https://www.jjw-ammerzoden.nl
X-WR-CALDESC:Evenementen voor Stichting Jeugd &amp; jongerenwerk Ammerzoden
REFRESH-INTERVAL;VALUE=DURATION:PT1H
X-Robots-Tag:noindex
X-PUBLISHED-TTL:PT1H
BEGIN:VTIMEZONE
TZID:Europe/Amsterdam
BEGIN:DAYLIGHT
TZOFFSETFROM:+0100
TZOFFSETTO:+0200
TZNAME:CEST
DTSTART:20230326T010000
END:DAYLIGHT
BEGIN:STANDARD
TZOFFSETFROM:+0200
TZOFFSETTO:+0100
TZNAME:CET
DTSTART:20231029T010000
END:STANDARD
BEGIN:DAYLIGHT
TZOFFSETFROM:+0100
TZOFFSETTO:+0200
TZNAME:CEST
DTSTART:20240331T010000
END:DAYLIGHT
BEGIN:STANDARD
TZOFFSETFROM:+0200
TZOFFSETTO:+0100
TZNAME:CET
DTSTART:20241027T010000
END:STANDARD
BEGIN:DAYLIGHT
TZOFFSETFROM:+0100
TZOFFSETTO:+0200
TZNAME:CEST
DTSTART:20250330T010000
END:DAYLIGHT
BEGIN:STANDARD
TZOFFSETFROM:+0200
TZOFFSETTO:+0100
TZNAME:CET
DTSTART:20251026T010000
END:STANDARD
BEGIN:DAYLIGHT
TZOFFSETFROM:+0100
TZOFFSETTO:+0200
TZNAME:CEST
DTSTART:20260329T010000
END:DAYLIGHT
BEGIN:STANDARD
TZOFFSETFROM:+0200
TZOFFSETTO:+0100
TZNAME:CET
DTSTART:20261025T010000
END:STANDARD
BEGIN:DAYLIGHT
TZOFFSETFROM:+0100
TZOFFSETTO:+0200
TZNAME:CEST
DTSTART:20270328T010000
END:DAYLIGHT
BEGIN:STANDARD
TZOFFSETFROM:+0200
TZOFFSETTO:+0100
TZNAME:CET
DTSTART:20271031T010000
END:STANDARD
END:VTIMEZONE
BEGIN:VEVENT
DTSTART;TZID=Europe/Amsterdam:20240628T140000
DTEND;TZID=Europe/Amsterdam:20240628T160000
DTSTAMP:20260426T041552
CREATED:20230727T092655Z
LAST-MODIFIED:20240307T132553Z
UID:3245-1719583200-1719590400@www.jjw-ammerzoden.nl
SUMMARY:Circus
DESCRIPTION:Als afsluiter van het seizoen hebben we wat leuks bedacht. Wordt jij onze nieuwe circus artiest? We gaan een mooie show maken voor de papa’s en mama’s. Bij mooi weergaan we naar de speeltuin aan de dijk in Ammerzoden en zorgen wij natuurlijk voor een overheerlijk ijsje voor alle kindjes
URL:https://www.jjw-ammerzoden.nl/agendaitem/circus/
LOCATION:Partycentrum De Weesboom
CATEGORIES:Njoy Activiteiten
ATTACH;FMTTYPE=image/jpeg:https://www.jjw-ammerzoden.nl/wp-content/uploads/2023/07/jjw-njoy-kidsclub-circus.jpg
END:VEVENT
BEGIN:VEVENT
DTSTART;TZID=Europe/Amsterdam:20240920T140000
DTEND;TZID=Europe/Amsterdam:20240920T160000
DTSTAMP:20260426T041552
CREATED:20240708T080851Z
LAST-MODIFIED:20240708T091018Z
UID:3757-1726840800-1726848000@www.jjw-ammerzoden.nl
SUMMARY:Speurtocht
DESCRIPTION:Speurtocht (bij regen koekjes bakken)\nAlle middagen zijn van 14.00 uur tot 16.00 uur in De Weesboom en kosten zijn 3 euro per kind. Dat is inclusief drinken en wat lekkers.
URL:https://www.jjw-ammerzoden.nl/agendaitem/speurtocht-2/
LOCATION:Partycentrum De Weesboom
CATEGORIES:Njoy Activiteiten
ATTACH;FMTTYPE=image/jpeg:https://www.jjw-ammerzoden.nl/wp-content/uploads/2024/07/Njoy-speurtocht.jpg
END:VEVENT
BEGIN:VEVENT
DTSTART;TZID=Europe/Amsterdam:20241018T140000
DTEND;TZID=Europe/Amsterdam:20241018T160000
DTSTAMP:20260426T041552
CREATED:20241018T081511Z
LAST-MODIFIED:20241018T081511Z
UID:3942-1729260000-1729267200@www.jjw-ammerzoden.nl
SUMMARY:Halloween
DESCRIPTION:Alle middagen zijn van 14.00 uur tot 16.00 uur in De Weesboom en kosten zijn 3 euro per kind. Dat is inclusief drinken en wat lekkers.
URL:https://www.jjw-ammerzoden.nl/agendaitem/halloween-4/
LOCATION:Partycentrum De Weesboom
CATEGORIES:Njoy Activiteiten
ATTACH;FMTTYPE=image/jpeg:https://www.jjw-ammerzoden.nl/wp-content/uploads/2021/09/Njoy-halloween.jpg
END:VEVENT
BEGIN:VEVENT
DTSTART;TZID=Europe/Amsterdam:20241122T140000
DTEND;TZID=Europe/Amsterdam:20241122T160000
DTSTAMP:20260426T041552
CREATED:20240307T125809Z
LAST-MODIFIED:20241002T135711Z
UID:3518-1732284000-1732291200@www.jjw-ammerzoden.nl
SUMMARY:Sinterklaas
DESCRIPTION:Alle middagen zijn van 14.00 uur tot 16.00 uur in De Weesboom en kosten zijn 3 euro per kind. Dat is inclusief drinken en wat lekkers.
URL:https://www.jjw-ammerzoden.nl/agendaitem/sinterklaas/
LOCATION:Partycentrum De Weesboom
CATEGORIES:Njoy Activiteiten
ATTACH;FMTTYPE=image/jpeg:https://www.jjw-ammerzoden.nl/wp-content/uploads/2024/03/jjw-njoy-kidsclub-sinterklaasjpg.jpg
END:VEVENT
BEGIN:VEVENT
DTSTART;TZID=Europe/Amsterdam:20250131T140000
DTEND;TZID=Europe/Amsterdam:20250131T160000
DTSTAMP:20260426T041552
CREATED:20240708T081638Z
LAST-MODIFIED:20250116T110844Z
UID:3761-1738332000-1738339200@www.jjw-ammerzoden.nl
SUMMARY:Snowglobe Knutsel & Spellen
DESCRIPTION:Alle middagen zijn van 14.00 uur tot 16.00 uur in De Weesboom en kosten zijn 3 euro per kind. Dat is inclusief drinken en wat lekkers.
URL:https://www.jjw-ammerzoden.nl/agendaitem/snowglobe-knutsel-spellen/
LOCATION:Partycentrum De Weesboom
CATEGORIES:Njoy Activiteiten
ATTACH;FMTTYPE=image/jpeg:https://www.jjw-ammerzoden.nl/wp-content/uploads/2024/07/Njoy-snowglobe-1.jpg
END:VEVENT
BEGIN:VEVENT
DTSTART;TZID=Europe/Amsterdam:20250221T140000
DTEND;TZID=Europe/Amsterdam:20250221T160000
DTSTAMP:20260426T041552
CREATED:20240708T082714Z
LAST-MODIFIED:20250217T135311Z
UID:3766-1740146400-1740153600@www.jjw-ammerzoden.nl
SUMMARY:Carnaval & Crazy Bingo
DESCRIPTION:Alle middagen zijn van 14.00 uur tot 16.00 uur in De Weesboom en kosten zijn 4 euro per kind. Dat is inclusief drinken en wat lekkers.
URL:https://www.jjw-ammerzoden.nl/agendaitem/carnaval-crazy-bingo/
LOCATION:Partycentrum De Weesboom
CATEGORIES:Njoy Activiteiten
ATTACH;FMTTYPE=image/jpeg:https://www.jjw-ammerzoden.nl/wp-content/uploads/2024/07/Njoy-carnaval-crazy-bingo.jpg
END:VEVENT
BEGIN:VEVENT
DTSTART;TZID=Europe/Amsterdam:20250328T140000
DTEND;TZID=Europe/Amsterdam:20250328T160000
DTSTAMP:20260426T041552
CREATED:20240708T083710Z
LAST-MODIFIED:20250217T135305Z
UID:3770-1743170400-1743177600@www.jjw-ammerzoden.nl
SUMMARY:Film kijken
DESCRIPTION:Alle middagen zijn van 14.00 uur tot 16.00 uur in De Weesboom en kosten zijn 4 euro per kind. Dat is inclusief drinken en wat lekkers.
URL:https://www.jjw-ammerzoden.nl/agendaitem/film-kijken/
LOCATION:Partycentrum De Weesboom
CATEGORIES:Njoy Activiteiten
ATTACH;FMTTYPE=image/jpeg:https://www.jjw-ammerzoden.nl/wp-content/uploads/2024/07/Njoy-film.jpg
END:VEVENT
BEGIN:VEVENT
DTSTART;TZID=Europe/Amsterdam:20250523T140000
DTEND;TZID=Europe/Amsterdam:20250523T160000
DTSTAMP:20260426T041552
CREATED:20240708T090401Z
LAST-MODIFIED:20250217T135301Z
UID:3774-1748008800-1748016000@www.jjw-ammerzoden.nl
SUMMARY:Insectenhotel maken & Spellen
DESCRIPTION:Alle middagen zijn van 14.00 uur tot 16.00 uur in De Weesboom en kosten zijn 4 euro per kind. Dat is inclusief drinken en wat lekkers.
URL:https://www.jjw-ammerzoden.nl/agendaitem/insectenhotel-maken-spellen/
LOCATION:Partycentrum De Weesboom
CATEGORIES:Njoy Activiteiten
ATTACH;FMTTYPE=image/jpeg:https://www.jjw-ammerzoden.nl/wp-content/uploads/2024/07/Njoy-insectenhotel.jpg
END:VEVENT
BEGIN:VEVENT
DTSTART;TZID=Europe/Amsterdam:20250620T140000
DTEND;TZID=Europe/Amsterdam:20250620T160000
DTSTAMP:20260426T041552
CREATED:20240708T090832Z
LAST-MODIFIED:20250217T135255Z
UID:3778-1750428000-1750435200@www.jjw-ammerzoden.nl
SUMMARY:Zomer spektakel
DESCRIPTION:Alle middagen zijn van 14.00 uur tot 16.00 uur in De Weesboom en kosten zijn 4 euro per kind. Dat is inclusief drinken en wat lekkers.
URL:https://www.jjw-ammerzoden.nl/agendaitem/zomer-spektakel/
LOCATION:Partycentrum De Weesboom
CATEGORIES:Njoy Activiteiten
ATTACH;FMTTYPE=image/jpeg:https://www.jjw-ammerzoden.nl/wp-content/uploads/2024/07/Njoy-zomerspektakel.jpg
END:VEVENT
BEGIN:VEVENT
DTSTART;TZID=Europe/Amsterdam:20250912T140000
DTEND;TZID=Europe/Amsterdam:20250912T160000
DTSTAMP:20260426T041552
CREATED:20250825T090921Z
LAST-MODIFIED:20250825T093255Z
UID:4473-1757685600-1757692800@www.jjw-ammerzoden.nl
SUMMARY:Ijsboerderij
DESCRIPTION:Alle middagen zijn van 14.00 uur tot 16.00 uur en kosten zijn 4 euro per kind. Dat is inclusief drinken en wat lekkers.
URL:https://www.jjw-ammerzoden.nl/agendaitem/ijsboerderij/
LOCATION:Ijsboerderij Hedel
CATEGORIES:Njoy Activiteiten
ATTACH;FMTTYPE=image/jpeg:https://www.jjw-ammerzoden.nl/wp-content/uploads/2025/08/Njoy-ijsboerderij-1.jpg
END:VEVENT
BEGIN:VEVENT
DTSTART;TZID=Europe/Amsterdam:20251121T140000
DTEND;TZID=Europe/Amsterdam:20251121T160000
DTSTAMP:20260426T041552
CREATED:20250825T093451Z
LAST-MODIFIED:20250926T090224Z
UID:4478-1763733600-1763740800@www.jjw-ammerzoden.nl
SUMMARY:Sinterklaasmiddag
DESCRIPTION:Alle middagen zijn van 14.00 uur tot 16.00 uur in de Weesboom en kosten zijn 4 euro per kind. Dat is inclusief drinken en wat lekkers.
URL:https://www.jjw-ammerzoden.nl/agendaitem/sinterklaas-2/
LOCATION:Partycentrum De Weesboom
CATEGORIES:Njoy Activiteiten
ATTACH;FMTTYPE=image/jpeg:https://www.jjw-ammerzoden.nl/wp-content/uploads/2024/03/jjw-njoy-kidsclub-sinterklaasjpg.jpg
END:VEVENT
BEGIN:VEVENT
DTSTART;TZID=Europe/Amsterdam:20260130T140000
DTEND;TZID=Europe/Amsterdam:20260130T160000
DTSTAMP:20260426T041552
CREATED:20250825T093811Z
LAST-MODIFIED:20250825T093811Z
UID:4486-1769781600-1769788800@www.jjw-ammerzoden.nl
SUMMARY:Carnaval
DESCRIPTION:Alle middagen zijn van 14.00 uur tot 16.00 uur in de Weesboom en kosten zijn 4 euro per kind. Dat is inclusief drinken en wat lekkers.
URL:https://www.jjw-ammerzoden.nl/agendaitem/carnaval-2/
LOCATION:Partycentrum De Weesboom
CATEGORIES:Njoy Activiteiten
ATTACH;FMTTYPE=image/jpeg:https://www.jjw-ammerzoden.nl/wp-content/uploads/2021/09/Njoy-carnaval.jpg
END:VEVENT
BEGIN:VEVENT
DTSTART;TZID=Europe/Amsterdam:20260320T140000
DTEND;TZID=Europe/Amsterdam:20260320T160000
DTSTAMP:20260426T041552
CREATED:20250825T094510Z
LAST-MODIFIED:20250825T094510Z
UID:4489-1774015200-1774022400@www.jjw-ammerzoden.nl
SUMMARY:Bingo
DESCRIPTION:Alle middagen zijn van 14.00 uur tot 16.00 uur in de Weesboom en kosten zijn 4 euro per kind. Dat is inclusief drinken en wat lekkers.
URL:https://www.jjw-ammerzoden.nl/agendaitem/bingo/
LOCATION:Partycentrum De Weesboom
CATEGORIES:Njoy Activiteiten
ATTACH;FMTTYPE=image/jpeg:https://www.jjw-ammerzoden.nl/wp-content/uploads/2025/08/Njoy-Bingo-1.jpg
END:VEVENT
END:VCALENDAR