BEGIN:VCALENDAR
VERSION:2.0
PRODID:-//Stichting Jeugd &amp; jongerenwerk Ammerzoden - ECPv6.15.20//NONSGML v1.0//EN
CALSCALE:GREGORIAN
METHOD:PUBLISH
X-ORIGINAL-URL:https://www.jjw-ammerzoden.nl
X-WR-CALDESC:Evenementen voor Stichting Jeugd &amp; jongerenwerk Ammerzoden
REFRESH-INTERVAL;VALUE=DURATION:PT1H
X-Robots-Tag:noindex
X-PUBLISHED-TTL:PT1H
BEGIN:VTIMEZONE
TZID:Europe/Amsterdam
BEGIN:DAYLIGHT
TZOFFSETFROM:+0100
TZOFFSETTO:+0200
TZNAME:CEST
DTSTART:20230326T010000
END:DAYLIGHT
BEGIN:STANDARD
TZOFFSETFROM:+0200
TZOFFSETTO:+0100
TZNAME:CET
DTSTART:20231029T010000
END:STANDARD
BEGIN:DAYLIGHT
TZOFFSETFROM:+0100
TZOFFSETTO:+0200
TZNAME:CEST
DTSTART:20240331T010000
END:DAYLIGHT
BEGIN:STANDARD
TZOFFSETFROM:+0200
TZOFFSETTO:+0100
TZNAME:CET
DTSTART:20241027T010000
END:STANDARD
BEGIN:DAYLIGHT
TZOFFSETFROM:+0100
TZOFFSETTO:+0200
TZNAME:CEST
DTSTART:20250330T010000
END:DAYLIGHT
BEGIN:STANDARD
TZOFFSETFROM:+0200
TZOFFSETTO:+0100
TZNAME:CET
DTSTART:20251026T010000
END:STANDARD
END:VTIMEZONE
BEGIN:VEVENT
DTSTART;TZID=Europe/Amsterdam:20240920T140000
DTEND;TZID=Europe/Amsterdam:20240920T160000
DTSTAMP:20260425T205503
CREATED:20240708T080851Z
LAST-MODIFIED:20240708T091018Z
UID:3757-1726840800-1726848000@www.jjw-ammerzoden.nl
SUMMARY:Speurtocht
DESCRIPTION:Speurtocht (bij regen koekjes bakken)\nAlle middagen zijn van 14.00 uur tot 16.00 uur in De Weesboom en kosten zijn 3 euro per kind. Dat is inclusief drinken en wat lekkers.
URL:https://www.jjw-ammerzoden.nl/agendaitem/speurtocht-2/
LOCATION:Partycentrum De Weesboom
CATEGORIES:Njoy Activiteiten
ATTACH;FMTTYPE=image/jpeg:https://www.jjw-ammerzoden.nl/wp-content/uploads/2024/07/Njoy-speurtocht.jpg
END:VEVENT
END:VCALENDAR