BEGIN:VCALENDAR
VERSION:2.0
PRODID:-//Stichting Jeugd &amp; jongerenwerk Ammerzoden - ECPv6.15.20//NONSGML v1.0//EN
CALSCALE:GREGORIAN
METHOD:PUBLISH
X-WR-CALNAME:Stichting Jeugd &amp; jongerenwerk Ammerzoden
X-ORIGINAL-URL:https://www.jjw-ammerzoden.nl
X-WR-CALDESC:Evenementen voor Stichting Jeugd &amp; jongerenwerk Ammerzoden
REFRESH-INTERVAL;VALUE=DURATION:PT1H
X-Robots-Tag:noindex
X-PUBLISHED-TTL:PT1H
BEGIN:VTIMEZONE
TZID:Europe/Amsterdam
BEGIN:DAYLIGHT
TZOFFSETFROM:+0100
TZOFFSETTO:+0200
TZNAME:CEST
DTSTART:20230326T010000
END:DAYLIGHT
BEGIN:STANDARD
TZOFFSETFROM:+0200
TZOFFSETTO:+0100
TZNAME:CET
DTSTART:20231029T010000
END:STANDARD
BEGIN:DAYLIGHT
TZOFFSETFROM:+0100
TZOFFSETTO:+0200
TZNAME:CEST
DTSTART:20240331T010000
END:DAYLIGHT
BEGIN:STANDARD
TZOFFSETFROM:+0200
TZOFFSETTO:+0100
TZNAME:CET
DTSTART:20241027T010000
END:STANDARD
BEGIN:DAYLIGHT
TZOFFSETFROM:+0100
TZOFFSETTO:+0200
TZNAME:CEST
DTSTART:20250330T010000
END:DAYLIGHT
BEGIN:STANDARD
TZOFFSETFROM:+0200
TZOFFSETTO:+0100
TZNAME:CET
DTSTART:20251026T010000
END:STANDARD
END:VTIMEZONE
BEGIN:VEVENT
DTSTART;TZID=Europe/Amsterdam:20240419T140000
DTEND;TZID=Europe/Amsterdam:20240419T160000
DTSTAMP:20260426T051340
CREATED:20230727T091116Z
LAST-MODIFIED:20240307T082253Z
UID:3239-1713535200-1713542400@www.jjw-ammerzoden.nl
SUMMARY:Kidsbingo & Fanfare workshop
DESCRIPTION:Eerder is de fanfare geweest voor een workshop en omdat dit zo leuk was komt de fanfare deze middag nogmaals en gaan we weer samen muziek maken. We combineren dit met een kidsbingo\, kom je ook?
URL:https://www.jjw-ammerzoden.nl/agendaitem/kidsbingo/
LOCATION:Partycentrum De Weesboom
CATEGORIES:Njoy Activiteiten
ATTACH;FMTTYPE=image/png:https://www.jjw-ammerzoden.nl/wp-content/uploads/2022/07/muziek.png
END:VEVENT
END:VCALENDAR