BEGIN:VCALENDAR
VERSION:2.0
PRODID:-//Stichting Jeugd &amp; jongerenwerk Ammerzoden - ECPv6.15.20//NONSGML v1.0//EN
CALSCALE:GREGORIAN
METHOD:PUBLISH
X-WR-CALNAME:Stichting Jeugd &amp; jongerenwerk Ammerzoden
X-ORIGINAL-URL:https://www.jjw-ammerzoden.nl
X-WR-CALDESC:Evenementen voor Stichting Jeugd &amp; jongerenwerk Ammerzoden
REFRESH-INTERVAL;VALUE=DURATION:PT1H
X-Robots-Tag:noindex
X-PUBLISHED-TTL:PT1H
BEGIN:VTIMEZONE
TZID:Europe/Amsterdam
BEGIN:DAYLIGHT
TZOFFSETFROM:+0100
TZOFFSETTO:+0200
TZNAME:CEST
DTSTART:20240331T010000
END:DAYLIGHT
BEGIN:STANDARD
TZOFFSETFROM:+0200
TZOFFSETTO:+0100
TZNAME:CET
DTSTART:20241027T010000
END:STANDARD
BEGIN:DAYLIGHT
TZOFFSETFROM:+0100
TZOFFSETTO:+0200
TZNAME:CEST
DTSTART:20250330T010000
END:DAYLIGHT
BEGIN:STANDARD
TZOFFSETFROM:+0200
TZOFFSETTO:+0100
TZNAME:CET
DTSTART:20251026T010000
END:STANDARD
BEGIN:DAYLIGHT
TZOFFSETFROM:+0100
TZOFFSETTO:+0200
TZNAME:CEST
DTSTART:20260329T010000
END:DAYLIGHT
BEGIN:STANDARD
TZOFFSETFROM:+0200
TZOFFSETTO:+0100
TZNAME:CET
DTSTART:20261025T010000
END:STANDARD
END:VTIMEZONE
BEGIN:VEVENT
DTSTART;VALUE=DATE:20250811
DTEND;VALUE=DATE:20250815
DTSTAMP:20260423T014040
CREATED:20250217T134556Z
LAST-MODIFIED:20250725T072252Z
UID:4290-1754870400-1755215999@www.jjw-ammerzoden.nl
SUMMARY:Zomerkamp
DESCRIPTION:Zomerkamp 2025 zal zijn van 11 augustus tot en met 14 augustus. Het thema is dit jaar; Te land\, Ter zee en in de Lucht! \nWil je mee? Koop dan vanaf 10 mei 2025 10.00 uur een entreeticket voor het kamp. Vergeet niet om gegevens zoals; zorgverzekeringsnummer\, evt. namen medicatie en bij wie uw kind het groepje wil bij de hand te houden. \nJe vult de deelnemer gegevens in en rekent het ticket direct via iDeal af.
URL:https://www.jjw-ammerzoden.nl/agendaitem/zomerkamp/
LOCATION:Kamplocatie de Hazelaar\, Postelseweg 173\, Eersel\, 5521 RD
CATEGORIES:JJW activiteiten
ATTACH;FMTTYPE=image/png:https://www.jjw-ammerzoden.nl/wp-content/uploads/2025/02/JJW-Ammerzoden_Logo_Zomerkamp_2025_800x800px.png
END:VEVENT
END:VCALENDAR