BEGIN:VCALENDAR
VERSION:2.0
PRODID:-//Stichting Jeugd &amp; jongerenwerk Ammerzoden - ECPv6.15.20//NONSGML v1.0//EN
CALSCALE:GREGORIAN
METHOD:PUBLISH
X-WR-CALNAME:Stichting Jeugd &amp; jongerenwerk Ammerzoden
X-ORIGINAL-URL:https://www.jjw-ammerzoden.nl
X-WR-CALDESC:Evenementen voor Stichting Jeugd &amp; jongerenwerk Ammerzoden
REFRESH-INTERVAL;VALUE=DURATION:PT1H
X-Robots-Tag:noindex
X-PUBLISHED-TTL:PT1H
BEGIN:VTIMEZONE
TZID:Europe/Amsterdam
BEGIN:DAYLIGHT
TZOFFSETFROM:+0100
TZOFFSETTO:+0200
TZNAME:CEST
DTSTART:20230326T010000
END:DAYLIGHT
BEGIN:STANDARD
TZOFFSETFROM:+0200
TZOFFSETTO:+0100
TZNAME:CET
DTSTART:20231029T010000
END:STANDARD
BEGIN:DAYLIGHT
TZOFFSETFROM:+0100
TZOFFSETTO:+0200
TZNAME:CEST
DTSTART:20240331T010000
END:DAYLIGHT
BEGIN:STANDARD
TZOFFSETFROM:+0200
TZOFFSETTO:+0100
TZNAME:CET
DTSTART:20241027T010000
END:STANDARD
BEGIN:DAYLIGHT
TZOFFSETFROM:+0100
TZOFFSETTO:+0200
TZNAME:CEST
DTSTART:20250330T010000
END:DAYLIGHT
BEGIN:STANDARD
TZOFFSETFROM:+0200
TZOFFSETTO:+0100
TZNAME:CET
DTSTART:20251026T010000
END:STANDARD
END:VTIMEZONE
BEGIN:VEVENT
DTSTART;VALUE=DATE:20241026
DTEND;VALUE=DATE:20241027
DTSTAMP:20260425T174427
CREATED:20240222T105117Z
LAST-MODIFIED:20240228T082628Z
UID:3500-1729900800-1729987199@www.jjw-ammerzoden.nl
SUMMARY:Halloween
DESCRIPTION:Meer info via onze socials
URL:https://www.jjw-ammerzoden.nl/agendaitem/halloween-3/
CATEGORIES:JJW activiteiten
ATTACH;FMTTYPE=image/png:https://www.jjw-ammerzoden.nl/wp-content/uploads/2022/07/halloween.png
END:VEVENT
END:VCALENDAR