BEGIN:VCALENDAR
VERSION:2.0
PRODID:-//Stichting Jeugd &amp; jongerenwerk Ammerzoden - ECPv6.15.20//NONSGML v1.0//EN
CALSCALE:GREGORIAN
METHOD:PUBLISH
X-WR-CALNAME:Stichting Jeugd &amp; jongerenwerk Ammerzoden
X-ORIGINAL-URL:https://www.jjw-ammerzoden.nl
X-WR-CALDESC:Evenementen voor Stichting Jeugd &amp; jongerenwerk Ammerzoden
REFRESH-INTERVAL;VALUE=DURATION:PT1H
X-Robots-Tag:noindex
X-PUBLISHED-TTL:PT1H
BEGIN:VTIMEZONE
TZID:Europe/Amsterdam
BEGIN:DAYLIGHT
TZOFFSETFROM:+0100
TZOFFSETTO:+0200
TZNAME:CEST
DTSTART:20230326T010000
END:DAYLIGHT
BEGIN:STANDARD
TZOFFSETFROM:+0200
TZOFFSETTO:+0100
TZNAME:CET
DTSTART:20231029T010000
END:STANDARD
BEGIN:DAYLIGHT
TZOFFSETFROM:+0100
TZOFFSETTO:+0200
TZNAME:CEST
DTSTART:20240331T010000
END:DAYLIGHT
BEGIN:STANDARD
TZOFFSETFROM:+0200
TZOFFSETTO:+0100
TZNAME:CET
DTSTART:20241027T010000
END:STANDARD
BEGIN:DAYLIGHT
TZOFFSETFROM:+0100
TZOFFSETTO:+0200
TZNAME:CEST
DTSTART:20250330T010000
END:DAYLIGHT
BEGIN:STANDARD
TZOFFSETFROM:+0200
TZOFFSETTO:+0100
TZNAME:CET
DTSTART:20251026T010000
END:STANDARD
END:VTIMEZONE
BEGIN:VEVENT
DTSTART;VALUE=DATE:20240812
DTEND;VALUE=DATE:20240816
DTSTAMP:20260425T211240
CREATED:20240222T104945Z
LAST-MODIFIED:20240408T125619Z
UID:3498-1723420800-1723766399@www.jjw-ammerzoden.nl
SUMMARY:Zomerkamp 2024
DESCRIPTION:Natuurlijk gaan we ook dit jaar weer op kamp! Zomerkamp 2024 zal zijn van 12 augustus tot en met 15 augustus. Het thema is dit jaar; Wie is de mol? \nWil je mee? Koop dan vanaf 6 mei 2024 10.00 uur een entreeticket voor het kamp. Vergeet niet om gegevens zoals; zorgverzekeringsnummer\, evt. namen medicatie en bij wie uw kind het groepje wil bij de hand te houden. \nJe vult de deelnemer gegevens in en rekent het ticket direct via iDeal af.
URL:https://www.jjw-ammerzoden.nl/agendaitem/zomerkamp-2024/
CATEGORIES:JJW activiteiten
ATTACH;FMTTYPE=image/png:https://www.jjw-ammerzoden.nl/wp-content/uploads/2021/04/zomercamp-JJW-Buttons.png
END:VEVENT
END:VCALENDAR